BEGIN:VCALENDAR
VERSION:2.0
PRODID:PHP
METHOD:PUBLISH
BEGIN:VEVENT
DTSTART:20230503T000000Z
DTEND:T000000Z
DESCRIPTION:Mehr Infos unter: https://www.designerinaction.de/termine/wettbewerbe/inkometa/
SUMMARY:Inkometa
UID:26703
SEQUENCE:0
DTSTAMP:20260420T081951
END:VEVENT
END:VCALENDAR
