BEGIN:VCALENDAR
VERSION:2.0
PRODID:PHP
METHOD:PUBLISH
BEGIN:VEVENT
DTSTART:20260625T000000Z
DTEND:T000000Z
DESCRIPTION:Mehr Infos unter: https://www.designerinaction.de/termine/ausstellungen/ausstellung-bundespreis-ecodesign/
SUMMARY:Ausstellung Bundespreis Ecodesign
UID:45706
SEQUENCE:0
DTSTAMP:20260423T084138
END:VEVENT
END:VCALENDAR
