BEGIN:VCALENDAR
VERSION:2.0
PRODID:PHP
METHOD:PUBLISH
BEGIN:VEVENT
DTSTART:20231016T000000Z
DTEND:T000000Z
DESCRIPTION:Mehr Infos unter: https://www.designerinaction.de/termine/berlin/product-design-ma-abschlussklasse-2023/
SUMMARY:Product Design MA Abschlussklasse 2023
UID:46627
SEQUENCE:0
DTSTAMP:20260423T082204
END:VEVENT
END:VCALENDAR
