BEGIN:VCALENDAR
VERSION:2.0
PRODID:PHP
METHOD:PUBLISH
BEGIN:VEVENT
DTSTART:20240107T000000Z
DTEND:T000000Z
DESCRIPTION:Mehr Infos unter: https://www.designerinaction.de/termine/ausstellungen/urban-transparency-glas-und-malerei-von-julius-weiland/
SUMMARY:Urban Transparency. Glas und Malerei von Julius Weiland
UID:47069
SEQUENCE:0
DTSTAMP:20260421T083106
END:VEVENT
END:VCALENDAR
