BEGIN:VCALENDAR
VERSION:2.0
PRODID:PHP
METHOD:PUBLISH
BEGIN:VEVENT
DTSTART:20240915T000000Z
DTEND:T000000Z
DESCRIPTION:Mehr Infos unter: https://www.designerinaction.de/termine/ausstellungen/dirk-reinartz-fotografieren-was-ist/
SUMMARY:Dirk Reinartz. Fotografieren, was ist
UID:47161
SEQUENCE:0
DTSTAMP:20260421T083106
END:VEVENT
END:VCALENDAR
