BEGIN:VCALENDAR
VERSION:2.0
PRODID:PHP
METHOD:PUBLISH
BEGIN:VEVENT
DTSTART:20240518T000000Z
DTEND:T000000Z
DESCRIPTION:Mehr Infos unter: https://www.designerinaction.de/termine/ausstellungen/science-fiction-design-vom-space-age-zum-metaverse-eroeffnung/
SUMMARY:Science Fiction Design. Vom Space Age zum Metaverse (Eröffnung)
UID:47355
SEQUENCE:0
DTSTAMP:20260421T083028
END:VEVENT
END:VCALENDAR
