BEGIN:VCALENDAR
VERSION:2.0
PRODID:PHP
METHOD:PUBLISH
BEGIN:VEVENT
DTSTART:20240516T000000Z
DTEND:T000000Z
DESCRIPTION:Mehr Infos unter: https://www.designerinaction.de/termine/ausstellungen/choose-your-player-spielwelten-von-wuerfel-bis-pixel-eroeffnung/
SUMMARY:Choose your Player. Spielwelten von Würfel bis Pixel (Eröffnung)
UID:48165
SEQUENCE:0
DTSTAMP:20260421T083029
END:VEVENT
END:VCALENDAR
