BEGIN:VCALENDAR
VERSION:2.0
PRODID:PHP
METHOD:PUBLISH
BEGIN:VEVENT
DTSTART:20260607T000000Z
DTEND:T000000Z
DESCRIPTION:Mehr Infos unter: https://www.designerinaction.de/termine/ausstellungen/mode-aus-paris-schenkung-erika-hoffmann/
SUMMARY:Mode aus Paris – Schenkung Erika Hoffmann
UID:50681
SEQUENCE:0
DTSTAMP:20260421T083105
END:VEVENT
END:VCALENDAR
