BEGIN:VCALENDAR
VERSION:2.0
PRODID:PHP
METHOD:PUBLISH
BEGIN:VEVENT
DTSTART:20260809T000000Z
DTEND:T000000Z
DESCRIPTION:Mehr Infos unter: https://www.designerinaction.de/termine/ausstellungen/constantin-brancusi/
SUMMARY:Brancusi
UID:51699
SEQUENCE:0
DTSTAMP:20260421T111322
END:VEVENT
END:VCALENDAR
