BEGIN:VCALENDAR
VERSION:2.0
PRODID:PHP
METHOD:PUBLISH
BEGIN:VEVENT
DTSTART:20260920T000000Z
DTEND:T000000Z
DESCRIPTION:Mehr Infos unter: https://www.designerinaction.de/termine/ausstellungen/die-pazzi-verschwoerung/
SUMMARY:Die Pazzi-Verschwörung
UID:52040
SEQUENCE:0
DTSTAMP:20260421T083104
END:VEVENT
END:VCALENDAR
