BEGIN:VCALENDAR
VERSION:2.0
PRODID:PHP
METHOD:PUBLISH
BEGIN:VEVENT
DTSTART:20260614T000000Z
DTEND:T000000Z
DESCRIPTION:Mehr Infos unter: https://www.designerinaction.de/termine/ausstellungen/heimsuchung-40-jahre-kgm-am-kulturforum/
SUMMARY:Heimsuchung: 40 Jahre KGM am Kulturforum
UID:52675
SEQUENCE:0
DTSTAMP:20260421T100417
END:VEVENT
END:VCALENDAR
