BEGIN:VCALENDAR
VERSION:2.0
PRODID:PHP
METHOD:PUBLISH
BEGIN:VEVENT
DTSTART:20260512T000000Z
DTEND:T000000Z
DESCRIPTION:Mehr Infos unter: https://www.designerinaction.de/termine/hamburg/grafikdesign-fuer-nicht-grafiker-graphic-skills-for-business/
SUMMARY:Grafikdesign für Nicht-Grafiker – Graphic Skills for Business
UID:53641
SEQUENCE:0
DTSTAMP:20260423T082203
END:VEVENT
END:VCALENDAR
