BEGIN:VCALENDAR
VERSION:2.0
PRODID:PHP
METHOD:PUBLISH
BEGIN:VEVENT
DTSTART:20260806T000000Z
DTEND:T000000Z
DESCRIPTION:Mehr Infos unter: https://www.designerinaction.de/termine/berlin/grafikdesign-fuer-nicht-grafiker-graphic-skills-for-business-3/
SUMMARY:Grafikdesign für Nicht-Grafiker – Graphic Skills for Business
UID:53643
SEQUENCE:0
DTSTAMP:20260423T105710
END:VEVENT
END:VCALENDAR
