BEGIN:VCALENDAR
VERSION:2.0
PRODID:PHP
METHOD:PUBLISH
BEGIN:VEVENT
DTSTART:20261109T000000Z
DTEND:T000000Z
DESCRIPTION:Mehr Infos unter: https://www.designerinaction.de/termine/duesseldorf/grafikdesign-fuer-nicht-grafiker-graphic-skills-for-business-6/
SUMMARY:Grafikdesign für Nicht-Grafiker – Graphic Skills for Business
UID:53646
SEQUENCE:0
DTSTAMP:20260423T083057
END:VEVENT
END:VCALENDAR
