BEGIN:VCALENDAR
VERSION:2.0
PRODID:PHP
METHOD:PUBLISH
BEGIN:VEVENT
DTSTART:20260519T000000Z
DTEND:T000000Z
DESCRIPTION:Mehr Infos unter: https://www.designerinaction.de/termine/duesseldorf/strategien-und-methoden-in-der-visuellen-kommunikation-the-professional-framework/
SUMMARY:Strategien und Methoden in der visuellen Kommunikation – The Professional Framework
UID:53648
SEQUENCE:0
DTSTAMP:20260423T103511
END:VEVENT
END:VCALENDAR
