BEGIN:VCALENDAR
VERSION:2.0
PRODID:PHP
METHOD:PUBLISH
BEGIN:VEVENT
DTSTART:20260810T000000Z
DTEND:T000000Z
DESCRIPTION:Mehr Infos unter: https://www.designerinaction.de/termine/berlin/strategien-und-methoden-in-der-visuellen-kommunikation-the-professional-framework-3/
SUMMARY:Strategien und Methoden in der visuellen Kommunikation – The Professional Framework
UID:53650
SEQUENCE:0
DTSTAMP:20260421T125227
END:VEVENT
END:VCALENDAR
