BEGIN:VCALENDAR
VERSION:2.0
PRODID:PHP
METHOD:PUBLISH
BEGIN:VEVENT
DTSTART:20261208T000000Z
DTEND:T000000Z
DESCRIPTION:Mehr Infos unter: https://www.designerinaction.de/termine/seminare/strategien-und-methoden-in-der-visuellen-kommunikation-the-professional-framework-5/
SUMMARY:Strategien und Methoden in der visuellen Kommunikation – The Professional Framework
UID:53652
SEQUENCE:0
DTSTAMP:20260421T124703
END:VEVENT
END:VCALENDAR
