BEGIN:VCALENDAR
VERSION:2.0
PRODID:PHP
METHOD:PUBLISH
BEGIN:VEVENT
DTSTART:20260611T000000Z
DTEND:T000000Z
DESCRIPTION:Mehr Infos unter: https://www.designerinaction.de/termine/meersburg/typografische-kompetenz-im-zeitalter-automatisierter-gestaltung-human-touch-in-digital-design/
SUMMARY:Typografische Kompetenz im Zeitalter automatisierter Gestaltung – Human Touch in Digital Design
UID:53654
SEQUENCE:0
DTSTAMP:20260423T093336
END:VEVENT
END:VCALENDAR
