BEGIN:VCALENDAR
VERSION:2.0
PRODID:PHP
METHOD:PUBLISH
BEGIN:VEVENT
DTSTART:20260820T000000Z
DTEND:T000000Z
DESCRIPTION:Mehr Infos unter: https://www.designerinaction.de/termine/duesseldorf/typografische-kompetenz-im-zeitalter-automatisierter-gestaltung-human-touch-in-digital-design-2/
SUMMARY:Typografische Kompetenz im Zeitalter automatisierter Gestaltung – Human Touch in Digital Design
UID:53656
SEQUENCE:0
DTSTAMP:20260421T125135
END:VEVENT
END:VCALENDAR
