BEGIN:VCALENDAR
VERSION:2.0
PRODID:PHP
METHOD:PUBLISH
BEGIN:VEVENT
DTSTART:20260908T000000Z
DTEND:T000000Z
DESCRIPTION:Mehr Infos unter: https://www.designerinaction.de/termine/muenchen/designkompetenz-design-quality-masterclass-3/
SUMMARY:Designkompetenz – Design Quality Masterclass
UID:53659
SEQUENCE:0
DTSTAMP:20260423T093337
END:VEVENT
END:VCALENDAR
