BEGIN:VCALENDAR
VERSION:2.0
PRODID:PHP
METHOD:PUBLISH
BEGIN:VEVENT
DTSTART:20261021T000000Z
DTEND:T000000Z
DESCRIPTION:Mehr Infos unter: https://www.designerinaction.de/termine/seminare/designkompetenz-design-quality-masterclass-4/
SUMMARY:Designkompetenz – Design Quality Masterclass
UID:53660
SEQUENCE:0
DTSTAMP:20260423T103759
END:VEVENT
END:VCALENDAR
