BEGIN:VCALENDAR
VERSION:2.0
PRODID:PHP
METHOD:PUBLISH
BEGIN:VEVENT
DTSTART:20261210T000000Z
DTEND:T000000Z
DESCRIPTION:Mehr Infos unter: https://www.designerinaction.de/termine/seminare/designkompetenz-design-quality-masterclass-5/
SUMMARY:Designkompetenz – Design Quality Masterclass
UID:53661
SEQUENCE:0
DTSTAMP:20260421T124703
END:VEVENT
END:VCALENDAR
