BEGIN:VCALENDAR
VERSION:2.0
PRODID:PHP
METHOD:PUBLISH
BEGIN:VEVENT
DTSTART:20260715T000000Z
DTEND:T000000Z
DESCRIPTION:Mehr Infos unter: https://www.designerinaction.de/termine/seminare/aktuelle-gestaltung-in-der-unternehmenskommunikation-professional-corporate-design-2/
SUMMARY:Aktuelle Gestaltung in der Unternehmenskommunikation – Professional Corporate Design
UID:53663
SEQUENCE:0
DTSTAMP:20260423T083053
END:VEVENT
END:VCALENDAR
