BEGIN:VCALENDAR
VERSION:2.0
PRODID:PHP
METHOD:PUBLISH
BEGIN:VEVENT
DTSTART:20260825T000000Z
DTEND:T000000Z
DESCRIPTION:Mehr Infos unter: https://www.designerinaction.de/termine/bamberg/aktuelle-gestaltung-in-der-unternehmenskommunikation-professional-corporate-design-3/
SUMMARY:Aktuelle Gestaltung in der Unternehmenskommunikation – Professional Corporate Design
UID:53664
SEQUENCE:0
DTSTAMP:20260424T075806
END:VEVENT
END:VCALENDAR
