BEGIN:VCALENDAR
VERSION:2.0
PRODID:PHP
METHOD:PUBLISH
BEGIN:VEVENT
DTSTART:20261104T000000Z
DTEND:T000000Z
DESCRIPTION:Mehr Infos unter: https://www.designerinaction.de/termine/muenchen/aktuelle-gestaltung-in-der-unternehmenskommunikation-professional-corporate-design-5/
SUMMARY:Aktuelle Gestaltung in der Unternehmenskommunikation – Professional Corporate Design
UID:53666
SEQUENCE:0
DTSTAMP:20260423T082203
END:VEVENT
END:VCALENDAR
