BEGIN:VCALENDAR
VERSION:2.0
PRODID:PHP
METHOD:PUBLISH
BEGIN:VEVENT
DTSTART:20260609T000000Z
DTEND:T000000Z
DESCRIPTION:Mehr Infos unter: https://www.designerinaction.de/termine/meersburg/innovative-gestaltungskonzepte-new-creative-perspectives-2/
SUMMARY:Innovative Gestaltungskonzepte – New Creative Perspectives
UID:53667
SEQUENCE:0
DTSTAMP:20260423T105741
END:VEVENT
END:VCALENDAR
