BEGIN:VCALENDAR
VERSION:2.0
PRODID:PHP
METHOD:PUBLISH
BEGIN:VEVENT
DTSTART:20261203T000000Z
DTEND:T000000Z
DESCRIPTION:Mehr Infos unter: https://www.designerinaction.de/termine/duesseldorf/innovative-gestaltungskonzepte-new-creative-perspectives-6/
SUMMARY:Innovative Gestaltungskonzepte – New Creative Perspectives
UID:53671
SEQUENCE:0
DTSTAMP:20260425T104843
END:VEVENT
END:VCALENDAR
