BEGIN:VCALENDAR
VERSION:2.0
PRODID:PHP
METHOD:PUBLISH
BEGIN:VEVENT
DTSTART:20260716T000000Z
DTEND:T000000Z
DESCRIPTION:Mehr Infos unter: https://www.designerinaction.de/termine/frankfurt/editorial-design-professionell-mastering-magazines/
SUMMARY:Editorial Design professionell – Mastering Magazines
UID:53672
SEQUENCE:0
DTSTAMP:20260421T123831
END:VEVENT
END:VCALENDAR
