BEGIN:VCALENDAR
VERSION:2.0
PRODID:PHP
METHOD:PUBLISH
BEGIN:VEVENT
DTSTART:20261201T000000Z
DTEND:T000000Z
DESCRIPTION:Mehr Infos unter: https://www.designerinaction.de/termine/duesseldorf/editorial-design-professionell-mastering-magazines-4/
SUMMARY:Editorial Design professionell – Mastering Magazines
UID:53675
SEQUENCE:0
DTSTAMP:20260421T124413
END:VEVENT
END:VCALENDAR
