BEGIN:VCALENDAR
VERSION:2.0
PRODID:PHP
METHOD:PUBLISH
BEGIN:VEVENT
DTSTART:20260721T000000Z
DTEND:T000000Z
DESCRIPTION:Mehr Infos unter: https://www.designerinaction.de/termine/hamburg/aktuelle-gestaltung-trends-in-der-visuellen-kommunikation-modern-design-perspectives/
SUMMARY:Aktuelle Gestaltung: Trends in der visuellen Kommunikation – Modern Design Perspectives
UID:53676
SEQUENCE:0
DTSTAMP:20260423T083102
END:VEVENT
END:VCALENDAR
