BEGIN:VCALENDAR
VERSION:2.0
PRODID:PHP
METHOD:PUBLISH
BEGIN:VEVENT
DTSTART:20260917T000000Z
DTEND:T000000Z
DESCRIPTION:Mehr Infos unter: https://www.designerinaction.de/termine/bamberg/aktuelle-gestaltung-trends-in-der-visuellen-kommunikation-modern-design-perspectives-3/
SUMMARY:Aktuelle Gestaltung: Trends in der visuellen Kommunikation – Modern Design Perspectives
UID:53678
SEQUENCE:0
DTSTAMP:20260422T082223
END:VEVENT
END:VCALENDAR
