BEGIN:VCALENDAR
VERSION:2.0
PRODID:PHP
METHOD:PUBLISH
BEGIN:VEVENT
DTSTART:20261117T000000Z
DTEND:T000000Z
DESCRIPTION:Mehr Infos unter: https://www.designerinaction.de/termine/seminare/aktuelle-gestaltung-trends-in-der-visuellen-kommunikation-modern-design-perspectives-4/
SUMMARY:Aktuelle Gestaltung: Trends in der visuellen Kommunikation – Modern Design Perspectives
UID:53679
SEQUENCE:0
DTSTAMP:20260423T095615
END:VEVENT
END:VCALENDAR
