BEGIN:VCALENDAR
VERSION:2.0
PRODID:PHP
METHOD:PUBLISH
BEGIN:VEVENT
DTSTART:20260608T000000Z
DTEND:T000000Z
DESCRIPTION:Mehr Infos unter: https://www.designerinaction.de/termine/meersburg/barrierefreie-visuelle-gestaltung-inclusive-design-essentials/
SUMMARY:Barrierefreie visuelle Gestaltung – Inclusive Design Essentials
UID:53680
SEQUENCE:0
DTSTAMP:20260423T095615
END:VEVENT
END:VCALENDAR
