BEGIN:VCALENDAR
VERSION:2.0
PRODID:PHP
METHOD:PUBLISH
BEGIN:VEVENT
DTSTART:20260703T000000Z
DTEND:T000000Z
DESCRIPTION:Mehr Infos unter: https://www.designerinaction.de/termine/bamberg/barrierefreie-visuelle-gestaltung-inclusive-design-essentials-2/
SUMMARY:Barrierefreie visuelle Gestaltung – Inclusive Design Essentials
UID:53681
SEQUENCE:0
DTSTAMP:20260422T082224
END:VEVENT
END:VCALENDAR
