BEGIN:VCALENDAR
VERSION:2.0
PRODID:PHP
METHOD:PUBLISH
BEGIN:VEVENT
DTSTART:20261111T000000Z
DTEND:T000000Z
DESCRIPTION:Mehr Infos unter: https://www.designerinaction.de/termine/duesseldorf/barrierefreie-visuelle-gestaltung-inclusive-design-essentials-4/
SUMMARY:Barrierefreie visuelle Gestaltung – Inclusive Design Essentials
UID:53683
SEQUENCE:0
DTSTAMP:20260423T105807
END:VEVENT
END:VCALENDAR
