BEGIN:VCALENDAR
VERSION:2.0
PRODID:PHP
METHOD:PUBLISH
BEGIN:VEVENT
DTSTART:20260701T000000Z
DTEND:T000000Z
DESCRIPTION:Mehr Infos unter: https://www.designerinaction.de/termine/bamberg/typografie-im-mittelpunkt-der-visuellen-kommunikation-impact-by-type/
SUMMARY:Typografie im Mittelpunkt der visuellen Kommunikation – Impact by Type
UID:53685
SEQUENCE:0
DTSTAMP:20260422T082223
END:VEVENT
END:VCALENDAR
