BEGIN:VCALENDAR
VERSION:2.0
PRODID:PHP
METHOD:PUBLISH
BEGIN:VEVENT
DTSTART:20260928T000000Z
DTEND:T000000Z
DESCRIPTION:Mehr Infos unter: https://www.designerinaction.de/termine/meersburg/typografie-im-mittelpunkt-der-visuellen-kommunikation-impact-by-type-2/
SUMMARY:Typografie im Mittelpunkt der visuellen Kommunikation – Impact by Type
UID:53686
SEQUENCE:0
DTSTAMP:20260423T120932
END:VEVENT
END:VCALENDAR
