BEGIN:VCALENDAR
VERSION:2.0
PRODID:PHP
METHOD:PUBLISH
BEGIN:VEVENT
DTSTART:20261116T000000Z
DTEND:T000000Z
DESCRIPTION:Mehr Infos unter: https://www.designerinaction.de/termine/seminare/typografie-im-mittelpunkt-der-visuellen-kommunikation-impact-by-type-3/
SUMMARY:Typografie im Mittelpunkt der visuellen Kommunikation – Impact by Type
UID:53687
SEQUENCE:0
DTSTAMP:20260425T105103
END:VEVENT
END:VCALENDAR
