BEGIN:VCALENDAR
VERSION:2.0
PRODID:PHP
METHOD:PUBLISH
BEGIN:VEVENT
DTSTART:20260604T000000Z
DTEND:20260605T000000Z
DESCRIPTION:Mehr Infos unter: https://www.designerinaction.de/termine/frankfurt/emotionen-uebersetzen-aufmerksamkeit-gewinnen-visual-impact/
SUMMARY:Emotionen übersetzen, Aufmerksamkeit gewinnen – Visual Impact
UID:53688
SEQUENCE:0
DTSTAMP:20260423T105807
END:VEVENT
END:VCALENDAR
