BEGIN:VCALENDAR
VERSION:2.0
PRODID:PHP
METHOD:PUBLISH
BEGIN:VEVENT
DTSTART:20260729T000000Z
DTEND:20260730T000000Z
DESCRIPTION:Mehr Infos unter: https://www.designerinaction.de/termine/meersburg/emotionen-uebersetzen-aufmerksamkeit-gewinnen-visual-impact-2/
SUMMARY:Emotionen übersetzen, Aufmerksamkeit gewinnen – Visual Impact
UID:53689
SEQUENCE:0
DTSTAMP:20260423T105741
END:VEVENT
END:VCALENDAR
