BEGIN:VCALENDAR
VERSION:2.0
PRODID:PHP
METHOD:PUBLISH
BEGIN:VEVENT
DTSTART:20261013T000000Z
DTEND:20261014T000000Z
DESCRIPTION:Mehr Infos unter: https://www.designerinaction.de/termine/meersburg/emotionen-uebersetzen-aufmerksamkeit-gewinnen-visual-impact-3/
SUMMARY:Emotionen übersetzen, Aufmerksamkeit gewinnen – Visual Impact
UID:53690
SEQUENCE:0
DTSTAMP:20260423T121135
END:VEVENT
END:VCALENDAR
