BEGIN:VCALENDAR
VERSION:2.0
PRODID:PHP
METHOD:PUBLISH
BEGIN:VEVENT
DTSTART:20260903T000000Z
DTEND:T000000Z
DESCRIPTION:Mehr Infos unter: https://www.designerinaction.de/termine/frankfurt/visuelle-konzepte-mit-ki-power-ai-powered-creativity-2/
SUMMARY:Visuelle Konzepte mit KI-Power – AI-Powered Creativity
UID:53693
SEQUENCE:0
DTSTAMP:20260421T123852
END:VEVENT
END:VCALENDAR
