BEGIN:VCALENDAR
VERSION:2.0
PRODID:PHP
METHOD:PUBLISH
BEGIN:VEVENT
DTSTART:20260501T000000Z
DTEND:20260503T000000Z
DESCRIPTION:Mehr Infos unter: https://www.designerinaction.de/termine/ausstellungen/gallery-weekend-berlin-2026-in-der-neuen-nationalgalerie/
SUMMARY:Gallery Weekend Berlin 2026 in der Neuen Nationalgalerie
UID:53697
SEQUENCE:0
DTSTAMP:20260421T113348
END:VEVENT
END:VCALENDAR
