BEGIN:VCALENDAR
VERSION:2.0
PRODID:PHP
METHOD:PUBLISH
BEGIN:VEVENT
DTSTART:20260506T000000Z
DTEND:T000000Z
DESCRIPTION:Mehr Infos unter: https://www.designerinaction.de/termine/duesseldorf/dosch-design-keyshot-on-the-road/
SUMMARY:DOSCH DESIGN & KeyShot – „on the road“
UID:53700
SEQUENCE:0
DTSTAMP:20260421T113403
END:VEVENT
END:VCALENDAR
