BEGIN:VCALENDAR
VERSION:2.0
PRODID:PHP
METHOD:PUBLISH
BEGIN:VEVENT
DTSTART:20260428T000000Z
DTEND:T000000Z
DESCRIPTION:Mehr Infos unter: https://www.designerinaction.de/termine/ausstellungen/beeple-regular-animals-eroeffnung/
SUMMARY:Beeple. Regular Animals (Eröffnung)
UID:53701
SEQUENCE:0
DTSTAMP:20260421T113336
END:VEVENT
END:VCALENDAR
