BEGIN:VCALENDAR
VERSION:2.0
PRODID:PHP
METHOD:PUBLISH
BEGIN:VEVENT
DTSTART:20260510T000000Z
DTEND:T000000Z
DESCRIPTION:Mehr Infos unter: https://www.designerinaction.de/termine/ausstellungen/beeple-regular-animals/
SUMMARY:Beeple. Regular Animals
UID:53702
SEQUENCE:0
DTSTAMP:20260421T113348
END:VEVENT
END:VCALENDAR
