BEGIN:VCALENDAR
VERSION:2.0
PRODID:PHP
METHOD:PUBLISH
BEGIN:VEVENT
DTSTART:20260430T000000Z
DTEND:T000000Z
DESCRIPTION:Mehr Infos unter: https://www.designerinaction.de/termine/ausstellungen/chanel-commission-lina-lapelyte-we-make-years-out-of-hours-eroeffnung/
SUMMARY:CHANEL Commission
UID:53703
SEQUENCE:0
DTSTAMP:20260421T113336
END:VEVENT
END:VCALENDAR
