BEGIN:VCALENDAR
VERSION:2.0
PRODID:PHP
METHOD:PUBLISH
BEGIN:VEVENT
DTSTART:20270110T000000Z
DTEND:T000000Z
DESCRIPTION:Mehr Infos unter: https://www.designerinaction.de/termine/ausstellungen/chanel-commission-lina-lapelyte-we-make-years-out-of-hours/
SUMMARY:CHANEL Commission: Lina Lapelytė. We Make Years Out of Hours
UID:53704
SEQUENCE:0
DTSTAMP:20260423T105710
END:VEVENT
END:VCALENDAR
