BEGIN:VCALENDAR
VERSION:2.0
PRODID:PHP
METHOD:PUBLISH
BEGIN:VEVENT
DTSTART:20261025T000000Z
DTEND:T000000Z
DESCRIPTION:Mehr Infos unter: https://www.designerinaction.de/termine/ausstellungen/pixelprojekt-auf-zollverein-gelb-ist-geschichte/
SUMMARY:Pixelprojekt auf Zollverein »Gelb ist Geschichte!«
UID:53706
SEQUENCE:0
DTSTAMP:20260422T082224
END:VEVENT
END:VCALENDAR
